BEGIN:VCALENDAR
VERSION:2.0
PRODID:-//eventon.com NONSGML v1.0//EN
CALSCALE:GREGORIAN
METHOD:PUBLISH
BEGIN:VEVENT
UID:69e73a9ecdff7
DTSTAMP:20260421T085142Z
DTSTART:20260525T100000Z
DTEND:20260525T143200Z
LOCATION:Yacht Club de Monaco Quai Louis II\,  98000 Monaco
SUMMARY:Brunch du YCM au Sunrise : Lundi de Pentecôte
DESCRIPTION:Lieu : Yacht Club de Monaco Formule Brunch à 90€/pers Inclus
  : 1 coupe de champagne Moët & Chandon Réservation : reservation@yacht-cl
 ub-monaco.mc Dress code : Tenue de ville ou de yachtman du Y.C.M. (veste ob
 ligatoire) Horaire : de 12h à 14h30\nhttps://yacht-club-monaco.mc/events/l
 undi-de-pentecote-brunch-au-champagne-moet-chandon-sunrise/
URL:https://yacht-club-monaco.mc/events/lundi-de-pentecote-brunch-au-champagne-moet-chandon-sunrise/
END:VEVENT
END:VCALENDAR