BEGIN:VCALENDAR
VERSION:2.0
PRODID:-//eventon.com NONSGML v1.0//EN
CALSCALE:GREGORIAN
METHOD:PUBLISH
BEGIN:VEVENT
UID:69e74a789b674
DTSTAMP:20260421T095920Z
DTSTART:20260531T103800Z
DTEND:20260531T123800Z
LOCATION:Yacht Club de Monaco Quai Louis II\,  98000 Monaco
SUMMARY:Brunch du Y.C.M. au Sunrise : Fête des mères
DESCRIPTION:Thème : Brunch spécial fête des mères – Sunrise Formule B
 runch à 90€/pers Inclus : 1 coupe de champagne Moët & Chandon Dress cod
 e: Tenue de ville ou de yachtman du Y.C.M. (veste  obligatoire) Horaire : 
 de 12h à 14h30 Réservation : reservation@yacht-club-monaco.mc\nhttps://ya
 cht-club-monaco.mc/events/brunch-special-fete-des-meres-sunrise/
URL:https://yacht-club-monaco.mc/events/brunch-special-fete-des-meres-sunrise/
END:VEVENT
END:VCALENDAR