BEGIN:VCALENDAR
VERSION:2.0
PRODID:-//eventon.com NONSGML v1.0//EN
CALSCALE:GREGORIAN
METHOD:PUBLISH
BEGIN:VEVENT
UID:69e5e875ece19
DTSTAMP:20260420T084853Z
DTSTART:20270113T093400Z
DTEND:20270117T093400Z
LOCATION:Yacht Club de Monaco Quai Louis II\,  98000 Monaco
SUMMARY:Monaco Optimist Team Race
DESCRIPTION:Lâ€™â€‰Ã©lite du Team Racing se donne rendez-vous Ã  Monaco Ã  
 lâ€™â€‰occasion de la Monaco Optimist Team Race. Ã‚gÃ©s de 15 ans\,  les co
 ncurrents rÃ©partis en 16 Ã©quipes de quatre rÃ©gatiers\,  sâ€™affrontent Ã
   armes Ã©gales. A lâ€™issue de la phase de round-robin permettant Ã  toute
 s les Ã©quipes de se rencontrer\,  se[..]\nhttps://yacht-club-monaco.mc/eve
 nts/monaco-optimist-team-race/
URL:https://yacht-club-monaco.mc/events/monaco-optimist-team-race/
END:VEVENT
END:VCALENDAR