BEGIN:VCALENDAR
VERSION:2.0
PRODID:-//eventon.com NONSGML v1.0//EN
CALSCALE:GREGORIAN
METHOD:PUBLISH
BEGIN:VEVENT
UID:69e7378790925
DTSTAMP:20260421T083831Z
DTSTART:20260527T073900Z
DTEND:20260527T073900Z
LOCATION:Yacht Club de Monaco Quai Louis II\,  98000 Monaco
SUMMARY:Conference dinner : Boris Herrmann
DESCRIPTION:Location: Yacht Club de Monaco | Restaurant 1909 | Deck 2 Theme
 : Team Malizia celebrates its 10th anniversary Time: 7.30 pm Price: €90 p
 er person Reservation: service membres | +377 93 10 63 03 | conferences@ycm
 .org\nhttps://yacht-club-monaco.mc/en/events/conference-dinner-boris-herrma
 nn/
URL:https://yacht-club-monaco.mc/en/events/conference-dinner-boris-herrmann/
END:VEVENT
END:VCALENDAR