BEGIN:VCALENDAR
VERSION:2.0
PRODID:-//eventon.com NONSGML v1.0//EN
CALSCALE:GREGORIAN
METHOD:PUBLISH
BEGIN:VEVENT
UID:69e74b4734958
DTSTAMP:20260421T100247Z
DTSTART:20260902T074600Z
DTEND:20260902T074600Z
LOCATION:Yacht Club de Monaco Quai Louis II\,  98000 Monaco
SUMMARY:Dîner conférence : Paul Cayard
DESCRIPTION:Lieu : Yacht Club de Monaco Thème : dîner conférence - Paul 
 Cayard\nhttps://yacht-club-monaco.mc/events/diner-conference-paul-cayard/
URL:https://yacht-club-monaco.mc/events/diner-conference-paul-cayard/
END:VEVENT
END:VCALENDAR