BEGIN:VCALENDAR
VERSION:2.0
PRODID:-//eventon.com NONSGML v1.0//EN
CALSCALE:GREGORIAN
METHOD:PUBLISH
BEGIN:VEVENT
UID:69e736eb59717
DTSTAMP:20260421T083555Z
DTSTART:20261014T075500Z
DTEND:20261014T075500Z
LOCATION:Yacht Club de Monaco Quai Louis II\,  98000 Monaco
SUMMARY:Dîner conférence : Vincent Riou
DESCRIPTION:Lieu : Yacht Club de Monaco | Restaurant 1909 Horaire : 19h30 P
 articipation : 90€ / pers Information &  Réservation : service membres 
 : +377 93 10 63 03 | conferences@ycm.org Thème : Dîner conférence : Vinc
 ent Riou\nhttps://yacht-club-monaco.mc/events/diner-conference-vincent-riou
 /
URL:https://yacht-club-monaco.mc/events/diner-conference-vincent-riou/
END:VEVENT
END:VCALENDAR