BEGIN:VCALENDAR
VERSION:2.0
PRODID:-//eventon.com NONSGML v1.0//EN
CALSCALE:GREGORIAN
METHOD:PUBLISH
BEGIN:VEVENT
UID:69e74e470b255
DTSTAMP:20260421T101535Z
DTSTART:20271203T084400Z
DTEND:20271205T084400Z
LOCATION:Yacht Club de Monaco Quai Louis II\,  98000 Monaco
SUMMARY:Navicap Challenge â€“ TrophÃ©e  Elena Sivoldaeva
DESCRIPTION:Lieu : Yacht Club de Monaco Quâ€™ils soient rÃ©gatiers confirmÃ
 ©s\,  valides ou porteurs de handicap\,  tous se retrouvent sur le plan dâ€
 ™eau monÃ©gasque Ã  lâ€™occasion du Navicap Challenge â€“ TrophÃ©e Elena Si
 voldaeva organisÃ© par le Yacht Club de Monaco.\nhttps://yacht-club-monaco.
 mc/events/navicap-challenge-elena-sivoldaeva-trophy-3/
URL:https://yacht-club-monaco.mc/events/navicap-challenge-elena-sivoldaeva-trophy-3/
END:VEVENT
END:VCALENDAR