BEGIN:VCALENDAR
VERSION:2.0
PRODID:-//eventon.com NONSGML v1.0//EN
CALSCALE:GREGORIAN
METHOD:PUBLISH
BEGIN:VEVENT
UID:69e74a2405654
DTSTAMP:20260421T095756Z
DTSTART:20260501T085000Z
DTEND:20260501T085000Z
LOCATION:Yacht Club de Monaco Quai Louis II\,  98000 Monaco
SUMMARY:Ouverture du Sunrise
DESCRIPTION:Lieu : Yacht Club de Monaco | Sunrise | Deck 5 Horaire : 12h00 
 Formule Brunch à 90€/pers Inclus : 1 coupe de champagne Moët & Chandon 
 Pour célébrer sa réouverture le restaurant le Sunrise\,  venez partager 
 un déjeuner convivial face à la mer\,  entre gastronomie et ambiance musi
 cale. Thème[..]\nhttps://yacht-club-monaco.mc/events/ouverture-du-sunrise-
 et-pool-bar/
URL:https://yacht-club-monaco.mc/events/ouverture-du-sunrise-et-pool-bar/
END:VEVENT
END:VCALENDAR