BEGIN:VCALENDAR
VERSION:2.0
PRODID:-//eventon.com NONSGML v1.0//EN
CALSCALE:GREGORIAN
METHOD:PUBLISH
BEGIN:VEVENT
UID:69e74b4418cf3
DTSTAMP:20260421T100244Z
DTSTART:20260619T155600Z
DTEND:20260619T155600Z
LOCATION:Yacht Club de Monaco Quai Louis II\,  98000 Monaco
SUMMARY:YCM Golf Challenge
DESCRIPTION:Lieu : Monte-Carlo Golf Club FORMULE DE JEU : Scramble par équ
 ipe de 2 joueurs stableford DRESS CODE : Pantalon blanc & polo blanc Reserv
 ation & Information : +377 93 10 63 00 | f.belmont@ycm.org\nhttps://yacht-c
 lub-monaco.mc/events/ycm-golf-challenge/
URL:https://yacht-club-monaco.mc/events/ycm-golf-challenge/
END:VEVENT
END:VCALENDAR