BEGIN:VCALENDAR
VERSION:2.0
PRODID:-//eventon.com NONSGML v1.0//EN
CALSCALE:GREGORIAN
METHOD:PUBLISH
BEGIN:VEVENT
UID:69e74b576b542
DTSTAMP:20260421T100303Z
DTSTART:20260507T131700Z
DTEND:20260507T131700Z
LOCATION:Yacht Club de Monaco Quai Louis II\,  98000 Monaco
SUMMARY:Fashion show ocean style
DESCRIPTION:Lieu : Yacht Club de Monaco L'élégance en fête autour de la 
 piscine Savourez votre déjeuner au rythme d'un défilé de mode Pool Bar (
 piscine) Tarif : 65€ (cocktail\,  lunch\,  eaux & café inclus) Horaire :
  12h30 Information & réservation : reservation@ycm.mc\nhttps://yacht-club-
 monaco.mc/events/fashion-show/
URL:https://yacht-club-monaco.mc/events/fashion-show/
END:VEVENT
END:VCALENDAR