BEGIN:VCALENDAR
VERSION:2.0
PRODID:-//eventon.com NONSGML v1.0//EN
CALSCALE:GREGORIAN
METHOD:PUBLISH
BEGIN:VEVENT
UID:69e74df7583c0
DTSTAMP:20260421T101415Z
DTSTART:20260604T144200Z
DTEND:20260604T144200Z
LOCATION:Yacht Club de Monaco Quai Louis II\,  98000 Monaco
SUMMARY:YCM Brunch at Sunrise: Fête Dieu
DESCRIPTION:Location: Yacht Club de Monaco Brunch package: €90 per person
 Includes: 1 glass of Moët & Chandon champagne Reservation: reservation@yac
 ht-club-monaco.mc Dress code: City attire or YCM yachtsman attire (jacket 
  required) Time: from 12:00 PM to 2:30 PM\nhttps://yacht-club-monaco.mc/en/
 events/sunrise-brunch-fete-dieu/
URL:https://yacht-club-monaco.mc/en/events/sunrise-brunch-fete-dieu/
END:VEVENT
END:VCALENDAR