BEGIN:VCALENDAR
VERSION:2.0
PRODID:-//eventon.com NONSGML v1.0//EN
CALSCALE:GREGORIAN
METHOD:PUBLISH
BEGIN:VEVENT
UID:69e74a9fb1bdf
DTSTAMP:20260421T095959Z
DTSTART:20260607T144600Z
DTEND:20260607T144600Z
LOCATION:Yacht Club de Monaco Quai Louis II\,  98000 Monaco
SUMMARY:Pool party Grand Prix
DESCRIPTION:Pool party Grand Prix\nhttps://yacht-club-monaco.mc/en/events/p
 ool-party-grand-prix/
URL:https://yacht-club-monaco.mc/en/events/pool-party-grand-prix/
END:VEVENT
END:VCALENDAR