BEGIN:VCALENDAR
VERSION:2.0
PRODID:-//eventon.com NONSGML v1.0//EN
CALSCALE:GREGORIAN
METHOD:PUBLISH
BEGIN:VEVENT
UID:69e7503d8b5fe
DTSTAMP:20260421T102357Z
DTSTART:20260702T145100Z
DTEND:20260702T145100Z
LOCATION:Yacht Club de Monaco Quai Louis II\,  98000 Monaco
SUMMARY:Sunrise by night
DESCRIPTION:Brasero and DJ €98 per person\,  excluding drinks Dress code:
  Casual chic attire (jacket or crew uniform appreciated)\nhttps://yacht-clu
 b-monaco.mc/en/events/sunrise-by-night/
URL:https://yacht-club-monaco.mc/en/events/sunrise-by-night/
END:VEVENT
END:VCALENDAR