BEGIN:VCALENDAR
VERSION:2.0
PRODID:-//eventon.com NONSGML v1.0//EN
CALSCALE:GREGORIAN
METHOD:PUBLISH
BEGIN:VEVENT
UID:69e74a777ed7f
DTSTAMP:20260421T095919Z
DTSTART:20260815T145500Z
DTEND:20260815T145500Z
LOCATION:Yacht Club de Monaco Quai Louis II\,  98000 Monaco
SUMMARY:Brunch du Y.C.M. au Sunrise : Assomption
DESCRIPTION:Lieu : Yacht Club de Monaco Formule Brunch à 90€/pers Inclus
  : 1 coupe de champagne Moët & Chandon Réservation : reservation@yacht-cl
 ub-monaco.mc Dress code : Tenue de ville ou de yachtman du Y.C.M. (veste ob
 ligatoire) Horaire : de 12h à 14h30\nhttps://yacht-club-monaco.mc/events/b
 runch-du-sunrise-assomption/
URL:https://yacht-club-monaco.mc/events/brunch-du-sunrise-assomption/
END:VEVENT
END:VCALENDAR