BEGIN:VCALENDAR
VERSION:2.0
PRODID:-//eventon.com NONSGML v1.0//EN
CALSCALE:GREGORIAN
METHOD:PUBLISH
BEGIN:VEVENT
UID:69e74ae7f1680
DTSTAMP:20260421T100111Z
DTSTART:20260815T145500Z
DTEND:20260815T145500Z
LOCATION:Yacht Club de Monaco Quai Louis II\,  98000 Monaco
SUMMARY:YCM Brunch at Sunrise: Assumption Day
DESCRIPTION:Location: Yacht Club de Monaco Brunch Package: €90 per person
  Includes: 1 glass of Moët & Chandon champagne Reservation : reservation@y
 acht-club-monaco.mc Dress code: YCM yachting or formal attire (jacket requi
 red) Hours: from 12:00 PM to 2:30 PM\nhttps://yacht-club-monaco.mc/en/event
 s/sunrise-brunch-assomption/
URL:https://yacht-club-monaco.mc/en/events/sunrise-brunch-assomption/
END:VEVENT
END:VCALENDAR