BEGIN:VCALENDAR
VERSION:2.0
PRODID:-//eventon.com NONSGML v1.0//EN
CALSCALE:GREGORIAN
METHOD:PUBLISH
BEGIN:VEVENT
UID:69e7363857b7f
DTSTAMP:20260421T083256Z
DTSTART:20261004T150600Z
DTEND:20261004T150600Z
LOCATION:Yacht Club de Monaco Quai Louis II\,  98000 Monaco
SUMMARY:Brunch du Y.C.M. au Sunrise : Fermeture du Sunrise & Pool Bar
DESCRIPTION:Brunch du Y.C.M. au Sunrise : Fermeture du Sunrise & Pool Bar\n
 https://yacht-club-monaco.mc/events/brunch-de-fermeture-sunrise/
URL:https://yacht-club-monaco.mc/events/brunch-de-fermeture-sunrise/
END:VEVENT
END:VCALENDAR