BEGIN:VCALENDAR
VERSION:2.0
PRODID:-//eventon.com NONSGML v1.0//EN
CALSCALE:GREGORIAN
METHOD:PUBLISH
BEGIN:VEVENT
UID:69e736f436cd3
DTSTAMP:20260421T083604Z
DTSTART:20261004T150600Z
DTEND:20261004T150600Z
LOCATION:Yacht Club de Monaco Quai Louis II\,  98000 Monaco
SUMMARY:YCM Brunch at Sunrise: Closing of the Sunrise & Pool Bar
DESCRIPTION:YCM Brunch at Sunrise: Closing of the Sunrise & Pool Bar\nhttps
 ://yacht-club-monaco.mc/en/events/sunrise-closing-brunch/
URL:https://yacht-club-monaco.mc/en/events/sunrise-closing-brunch/
END:VEVENT
END:VCALENDAR