BEGIN:VCALENDAR
VERSION:2.0
PRODID:-//eventon.com NONSGML v1.0//EN
CALSCALE:GREGORIAN
METHOD:PUBLISH
BEGIN:VEVENT
UID:69e76db54d740
DTSTAMP:20260421T122941Z
DTSTART:20261119T161400Z
DTEND:20261119T161400Z
LOCATION:Yacht Club de Monaco Quai Louis II\,  98000 Monaco
SUMMARY:YCM Brunch at Restaurant 1909: Fête du Prince
DESCRIPTION:Location: Yacht Club de Monaco Brunch Package: €90 per person
  Includes: 1 glass of Moët & Chandon champagne Reservation : reservation@y
 acht-club-monaco.mc Dress code: YCM yachting or formal attire (jacket  req
 uired) Hours: from 12:00 PM to 2:30 PM\nhttps://yacht-club-monaco.mc/en/eve
 nts/restaurant-1909-brunch-fete-du-prince/
URL:https://yacht-club-monaco.mc/en/events/restaurant-1909-brunch-fete-du-prince/
END:VEVENT
END:VCALENDAR