BEGIN:VCALENDAR
VERSION:2.0
PRODID:-//eventon.com NONSGML v1.0//EN
CALSCALE:GREGORIAN
METHOD:PUBLISH
BEGIN:VEVENT
UID:69e74a7be9dfc
DTSTAMP:20260421T095923Z
DTSTART:20261126T161900Z
DTEND:20261126T161900Z
LOCATION:Yacht Club de Monaco Quai Louis II\,  98000 Monaco
SUMMARY:Thanksgiving dinner Restaurant 1909
DESCRIPTION:Thanksgiving dinner Restaurant 1909\nhttps://yacht-club-monaco.
 mc/en/events/thanksgiving-dinner-restaurant-1909/
URL:https://yacht-club-monaco.mc/en/events/thanksgiving-dinner-restaurant-1909/
END:VEVENT
END:VCALENDAR