BEGIN:VCALENDAR
VERSION:2.0
PRODID:-//eventon.com NONSGML v1.0//EN
CALSCALE:GREGORIAN
METHOD:PUBLISH
BEGIN:VEVENT
UID:69e74ae62af4e
DTSTAMP:20260421T100110Z
DTSTART:20261208T162100Z
DTEND:20261208T162100Z
LOCATION:Yacht Club de Monaco Quai Louis II\,  98000 Monaco
SUMMARY:Brunch du YCM au Restaurant 1909 : Immaculée Conception
DESCRIPTION:Lieu : Yacht Club de Monaco Formule Brunch à 90€/pers Inclus
  : 1 coupe de champagne Moët & Chandon Réservation : reservation@yacht-cl
 ub-monaco.mc Dress code : Tenue de ville ou de yachtman du Y.C.M. (veste ob
 ligatoire) Horaire : de 12h à 14h30\nhttps://yacht-club-monaco.mc/events/b
 runch-restaurant-1909-immaculee-conception/
URL:https://yacht-club-monaco.mc/events/brunch-restaurant-1909-immaculee-conception/
END:VEVENT
END:VCALENDAR