BEGIN:VCALENDAR
VERSION:2.0
PRODID:-//eventon.com NONSGML v1.0//EN
CALSCALE:GREGORIAN
METHOD:PUBLISH
BEGIN:VEVENT
UID:69e736ea521e7
DTSTAMP:20260421T083554Z
DTSTART:20261208T162100Z
DTEND:20261208T162100Z
LOCATION:Yacht Club de Monaco Quai Louis II\,  98000 Monaco
SUMMARY:YCM Brunch at Restaurant 1909: Immaculée Conception
DESCRIPTION:Location: Yacht Club de Monaco Brunch Package: €90 per person
  Includes: 1 glass of Moët & Chandon champagne Reservation: reservation@ya
 cht-club-monaco.mc Dress code: YCM yachting or formal attire (jacket requir
 ed) Hours: from 12:00 PM to 2:30 PM\nhttps://yacht-club-monaco.mc/en/events
 /restaurant-1909-brunch-immaculee-conception/
URL:https://yacht-club-monaco.mc/en/events/restaurant-1909-brunch-immaculee-conception/
END:VEVENT
END:VCALENDAR