BEGIN:VCALENDAR
VERSION:2.0
PRODID:-//eventon.com NONSGML v1.0//EN
CALSCALE:GREGORIAN
METHOD:PUBLISH
BEGIN:VEVENT
UID:69e736385cd73
DTSTAMP:20260421T083256Z
DTSTART:20261211T162600Z
DTEND:20261211T162600Z
LOCATION:Yacht Club de Monaco Quai Louis II\,  98000 Monaco
SUMMARY:Soirée fondue Restaurant 1909
DESCRIPTION:Horaire : 19h30 Dress code : Homme : yachtmen | Femme : casual 
 chic\nhttps://yacht-club-monaco.mc/events/soiree-fondue-restaurant-1909/
URL:https://yacht-club-monaco.mc/events/soiree-fondue-restaurant-1909/
END:VEVENT
END:VCALENDAR