BEGIN:VCALENDAR
VERSION:2.0
PRODID:-//eventon.com NONSGML v1.0//EN
CALSCALE:GREGORIAN
METHOD:PUBLISH
BEGIN:VEVENT
UID:69e7371a67ac8
DTSTAMP:20260421T083642Z
DTSTART:20261211T162600Z
DTEND:20261211T162600Z
LOCATION:Yacht Club de Monaco Quai Louis II\,  98000 Monaco
SUMMARY:Restaurant 1909 – Fondue Evening
DESCRIPTION:Time: 7.30 p.m. Dress code: Gentlemen: yachtman | Ladies: casua
 l chic\nhttps://yacht-club-monaco.mc/en/events/restaurant-1909-fondue-eveni
 ng/
URL:https://yacht-club-monaco.mc/en/events/restaurant-1909-fondue-evening/
END:VEVENT
END:VCALENDAR