BEGIN:VCALENDAR
VERSION:2.0
PRODID:-//eventon.com NONSGML v1.0//EN
CALSCALE:GREGORIAN
METHOD:PUBLISH
BEGIN:VEVENT
UID:69e74a3cb78a3
DTSTAMP:20260421T095820Z
DTSTART:20261225T162900Z
DTEND:20261225T162900Z
LOCATION:Yacht Club de Monaco Quai Louis II\,  98000 Monaco
SUMMARY:Déjeuner de Noel Restaurant 1909
DESCRIPTION:Heure : à partir de 12h Dress code : Homme : yachtman | Femme 
 : casual chic Lieu : Restaurant Le 1909\nhttps://yacht-club-monaco.mc/event
 s/dejeuner-de-noel/
URL:https://yacht-club-monaco.mc/events/dejeuner-de-noel/
END:VEVENT
END:VCALENDAR