BEGIN:VCALENDAR
VERSION:2.0
PRODID:-//eventon.com NONSGML v1.0//EN
CALSCALE:GREGORIAN
METHOD:PUBLISH
BEGIN:VEVENT
UID:69e74fe83bb39
DTSTAMP:20260421T102232Z
DTSTART:20261225T162900Z
DTEND:20261225T162900Z
LOCATION:Yacht Club de Monaco Quai Louis II\,  98000 Monaco
SUMMARY:Christmas lunch  Restaurant 1909
DESCRIPTION:Time: from 12:00 p.m. Dress code: Gentlemen: yachtman | Ladies:
  casual chic Location: Restaurant Le 1909\nhttps://yacht-club-monaco.mc/en/
 events/christmas-lunch-restaurant-1909/
URL:https://yacht-club-monaco.mc/en/events/christmas-lunch-restaurant-1909/
END:VEVENT
END:VCALENDAR