BEGIN:VCALENDAR
VERSION:2.0
PRODID:-//eventon.com NONSGML v1.0//EN
CALSCALE:GREGORIAN
METHOD:PUBLISH
BEGIN:VEVENT
UID:69e74a777e9f9
DTSTAMP:20260421T095919Z
DTSTART:20261112T163600Z
DTEND:20261112T163600Z
LOCATION:Yacht Club de Monaco Quai Louis II\,  98000 Monaco
SUMMARY:Dîner d'exception Truffes et Marchesi Antinori
DESCRIPTION:Heure : 19h30 Dress code : Homme : yachtman | Femme : casual ch
 ic Lieu : Restaurant Le 1909\nhttps://yacht-club-monaco.mc/events/diner-dex
 ception-truffes-et-marchesi-antinori/
URL:https://yacht-club-monaco.mc/events/diner-dexception-truffes-et-marchesi-antinori/
END:VEVENT
END:VCALENDAR