BEGIN:VCALENDAR
VERSION:2.0
PRODID:-//eventon.com NONSGML v1.0//EN
CALSCALE:GREGORIAN
METHOD:PUBLISH
BEGIN:VEVENT
UID:69e7503d91a73
DTSTAMP:20260421T102357Z
DTSTART:20261112T163600Z
DTEND:20261112T163600Z
LOCATION:Yacht Club de Monaco Quai Louis II\,  98000 Monaco
SUMMARY:Exceptional Dinner: Truffles and Marchesi Antinori
DESCRIPTION:Time: 7.30 p.m. Dress code: Gentlemen: yachtman | Ladies: casua
 l chic Location: Restaurant Le 1909\nhttps://yacht-club-monaco.mc/en/events
 /exceptional-dinner-truffles-and-marchesi-antinori/
URL:https://yacht-club-monaco.mc/en/events/exceptional-dinner-truffles-and-marchesi-antinori/
END:VEVENT
END:VCALENDAR