BEGIN:VCALENDAR
VERSION:2.0
PRODID:-//eventon.com NONSGML v1.0//EN
CALSCALE:GREGORIAN
METHOD:PUBLISH
BEGIN:VEVENT
UID:69e8febde5b5f
DTSTAMP:20260422T170045Z
DTSTART:20260924T064200Z
DTEND:20260924T064200Z
LOCATION:Yacht Club de Monaco Quai Louis II\,  98000 Monaco
SUMMARY:Captains’ Forum
DESCRIPTION:Captains’ Forum\nhttps://yacht-club-monaco.mc/en/events/capta
 ins-forum/
URL:https://yacht-club-monaco.mc/en/events/captains-forum/
END:VEVENT
END:VCALENDAR