BEGIN:VCALENDAR
VERSION:2.0
PRODID:-//eventon.com NONSGML v1.0//EN
CALSCALE:GREGORIAN
METHOD:PUBLISH
BEGIN:VEVENT
UID:69eb52abcdd6f
DTSTAMP:20260424T112323Z
DTSTART:20260523T132000Z
DTEND:20260524T132000Z
LOCATION:Yacht Club de Monaco Quai Louis II\,  98000 Monaco
SUMMARY:Spring Cup
DESCRIPTION:Lieu : Yacht Club de Monaco Thème : régate en flotte partagé
 e de Fusion II Inscription : https://form.jotform.com/252812294972363 Avis 
 de course :  https://yacht-club-monaco.mc/wp-content/uploads/Avis-de-Cours
 e-Spring-Cup-FRA.pdf Programme  Samedi 23 mai 2026 9.30 Briefing / attri
 bution des groupes et des bateaux pour la phase de poules. 11.00 1er signal
  d’avertissement A suivre Dîner[..]\nhttps://yacht-club-monaco.mc/events
 /spring-cup/
URL:https://yacht-club-monaco.mc/events/spring-cup/
END:VEVENT
END:VCALENDAR