BEGIN:VCALENDAR
VERSION:2.0
PRODID:-//eventon.com NONSGML v1.0//EN
CALSCALE:GREGORIAN
METHOD:PUBLISH
BEGIN:VEVENT
UID:69eb7e4e0f563
DTSTAMP:20260424T142934Z
DTSTART:20260523T132000Z
DTEND:20260524T132000Z
LOCATION:Yacht Club de Monaco Quai Louis II\,  98000 Monaco
SUMMARY:Spring cup
DESCRIPTION:Venue: Yacht Club de Monaco Theme: Fusion II shared-fleet regat
 ta Registration: https://form.jotform.com/252812294972363 Notice of Race: h
 ttps://yacht-club-monaco.mc/wp-content/uploads/Avis-de-Course-Spring-Cup-FR
 A.pdf Saturday\,  23 May 2026 9.30 Briefing / allocation of groups and boat
 s for the round-robin phase 11.00 First warning signal To follow Official D
 inner (upon registration; not included in the entry fee) Sunday\,  24[..]\n
 https://yacht-club-monaco.mc/en/events/spring-cup/
URL:https://yacht-club-monaco.mc/en/events/spring-cup/
END:VEVENT
END:VCALENDAR