BEGIN:VCALENDAR
VERSION:2.0
PRODID:-//eventon.com NONSGML v1.0//EN
CALSCALE:GREGORIAN
METHOD:PUBLISH
BEGIN:VEVENT
UID:69e74a24187c6
DTSTAMP:20260421T095756Z
DTSTART:20260924T064200Z
DTEND:20260924T064200Z
LOCATION:Yacht Club de Monaco Quai Louis II\,  98000 Monaco
SUMMARY:Captains’ Forum
DESCRIPTION:Captains’ Forum\nhttps://yacht-club-monaco.mc/events/captains
 -forum/
URL:https://yacht-club-monaco.mc/events/captains-forum/
END:VEVENT
BEGIN:VEVENT
UID:69e74a2418acf
DTSTAMP:20260421T095756Z
DTSTART:20261231T164100Z
DTEND:20261231T164100Z
LOCATION:Yacht Club de Monaco Quai Louis II\,  98000 Monaco
SUMMARY:Soirée de réveillon
DESCRIPTION:Soirée de réveillon\nhttps://yacht-club-monaco.mc/events/soir
 ee-de-reveillon/
URL:https://yacht-club-monaco.mc/events/soiree-de-reveillon/
END:VEVENT
BEGIN:VEVENT
UID:69e74a2418dba
DTSTAMP:20260421T095756Z
DTSTART:20261112T163600Z
DTEND:20261112T163600Z
LOCATION:Yacht Club de Monaco Quai Louis II\,  98000 Monaco
SUMMARY:Dîner d’exception Truffes et Marchesi Antinori
DESCRIPTION:Dîner d&#8217;exception Truffes et Marchesi Antinori\nhttps://
 yacht-club-monaco.mc/events/diner-dexception-truffes-et-marchesi-antinori/
URL:https://yacht-club-monaco.mc/events/diner-dexception-truffes-et-marchesi-antinori/
END:VEVENT
BEGIN:VEVENT
UID:69e74a241906c
DTSTAMP:20260421T095756Z
DTSTART:20261225T162900Z
DTEND:20261225T162900Z
LOCATION:Yacht Club de Monaco Quai Louis II\,  98000 Monaco
SUMMARY:Déjeuner de Noel Restaurant 1909
DESCRIPTION:Déjeuner de Noel Restaurant 1909\nhttps://yacht-club-monaco.mc
 /events/dejeuner-de-noel/
URL:https://yacht-club-monaco.mc/events/dejeuner-de-noel/
END:VEVENT
BEGIN:VEVENT
UID:69e74a241932e
DTSTAMP:20260421T095756Z
DTSTART:20261211T162600Z
DTEND:20261211T162600Z
LOCATION:Yacht Club de Monaco Quai Louis II\,  98000 Monaco
SUMMARY:Soirée fondue Restaurant 1909
DESCRIPTION:Soirée fondue Restaurant 1909\nhttps://yacht-club-monaco.mc/ev
 ents/soiree-fondue-restaurant-1909/
URL:https://yacht-club-monaco.mc/events/soiree-fondue-restaurant-1909/
END:VEVENT
BEGIN:VEVENT
UID:69e74a24195f8
DTSTAMP:20260421T095756Z
DTSTART:20261208T162100Z
DTEND:20261208T162100Z
LOCATION:Yacht Club de Monaco Quai Louis II\,  98000 Monaco
SUMMARY:Brunch du YCM au Restaurant 1909 : Immaculée Conception
DESCRIPTION:Brunch du YCM au Restaurant 1909 : Immaculée Conception\nhttps
 ://yacht-club-monaco.mc/events/brunch-restaurant-1909-immaculee-conception/
URL:https://yacht-club-monaco.mc/events/brunch-restaurant-1909-immaculee-conception/
END:VEVENT
BEGIN:VEVENT
UID:69e74a24198c8
DTSTAMP:20260421T095756Z
DTSTART:20261126T161900Z
DTEND:20261126T161900Z
LOCATION:Yacht Club de Monaco Quai Louis II\,  98000 Monaco
SUMMARY:Dîner Thanksgiving Restaurant 1909
DESCRIPTION:Dîner Thanksgiving Restaurant 1909\nhttps://yacht-club-monaco.
 mc/events/diner-thanksgiving-restaurant-1909/
URL:https://yacht-club-monaco.mc/events/diner-thanksgiving-restaurant-1909/
END:VEVENT
BEGIN:VEVENT
UID:69e74a2419b90
DTSTAMP:20260421T095756Z
DTSTART:20261119T161400Z
DTEND:20261119T161400Z
LOCATION:Yacht Club de Monaco Quai Louis II\,  98000 Monaco
SUMMARY:Brunch du Y.C.M. au Restaurant 1909 : Fête du Prince
DESCRIPTION:Brunch du Y.C.M. au Restaurant 1909 : Fête du Prince\nhttps://
 yacht-club-monaco.mc/events/brunch-du-restaurant-1909-fete-du-prince/
URL:https://yacht-club-monaco.mc/events/brunch-du-restaurant-1909-fete-du-prince/
END:VEVENT
BEGIN:VEVENT
UID:69e74a2419ea2
DTSTAMP:20260421T095756Z
DTSTART:20261101T160800Z
DTEND:20261101T160800Z
LOCATION:Yacht Club de Monaco Quai Louis II\,  98000 Monaco
SUMMARY:Brunch du YCM au Restaurant 1909 : Toussaint
DESCRIPTION:Brunch du YCM au Restaurant 1909 : Toussaint\nhttps://yacht-clu
 b-monaco.mc/events/brunch-du-restaurant-1909-toussaint/
URL:https://yacht-club-monaco.mc/events/brunch-du-restaurant-1909-toussaint/
END:VEVENT
BEGIN:VEVENT
UID:69e74a241a160
DTSTAMP:20260421T095756Z
DTSTART:20261004T150600Z
DTEND:20261004T150600Z
LOCATION:Yacht Club de Monaco Quai Louis II\,  98000 Monaco
SUMMARY:Brunch du Y.C.M. au Sunrise : Fermeture du Sunrise & Pool Bar
DESCRIPTION:Brunch du Y.C.M. au Sunrise : Fermeture du Sunrise & Pool Bar\n
 https://yacht-club-monaco.mc/events/brunch-de-fermeture-sunrise/
URL:https://yacht-club-monaco.mc/events/brunch-de-fermeture-sunrise/
END:VEVENT
BEGIN:VEVENT
UID:69e74a241a43b
DTSTAMP:20260421T095756Z
DTSTART:20260905T150200Z
DTEND:20260905T150200Z
LOCATION:Yacht Club de Monaco Quai Louis II\,  98000 Monaco
SUMMARY:Concert Ferretti
DESCRIPTION:Concert Ferretti\nhttps://yacht-club-monaco.mc/events/concert-f
 erretti/
URL:https://yacht-club-monaco.mc/events/concert-ferretti/
END:VEVENT
BEGIN:VEVENT
UID:69e74a241a706
DTSTAMP:20260421T095756Z
DTSTART:20260828T145900Z
DTEND:20260828T145900Z
LOCATION:Yacht Club de Monaco Quai Louis II\,  98000 Monaco
SUMMARY:Sunrise by night
DESCRIPTION:Sunrise by night\nhttps://yacht-club-monaco.mc/events/sunrise-b
 y-night-2/
URL:https://yacht-club-monaco.mc/events/sunrise-by-night-2/
END:VEVENT
BEGIN:VEVENT
UID:69e74a241a9b6
DTSTAMP:20260421T095756Z
DTSTART:20260815T145500Z
DTEND:20260815T145500Z
LOCATION:Yacht Club de Monaco Quai Louis II\,  98000 Monaco
SUMMARY:Brunch du Y.C.M. au Sunrise : Assomption
DESCRIPTION:Brunch du Y.C.M. au Sunrise : Assomption\nhttps://yacht-club-mo
 naco.mc/events/brunch-du-sunrise-assomption/
URL:https://yacht-club-monaco.mc/events/brunch-du-sunrise-assomption/
END:VEVENT
BEGIN:VEVENT
UID:69e74a241acaa
DTSTAMP:20260421T095756Z
DTSTART:20260702T145100Z
DTEND:20260702T145100Z
LOCATION:Yacht Club de Monaco Quai Louis II\,  98000 Monaco
SUMMARY:Sunrise by night
DESCRIPTION:Sunrise by night\nhttps://yacht-club-monaco.mc/events/sunrise-b
 y-night/
URL:https://yacht-club-monaco.mc/events/sunrise-by-night/
END:VEVENT
BEGIN:VEVENT
UID:69e74a241af4d
DTSTAMP:20260421T095756Z
DTSTART:20260607T144600Z
DTEND:20260607T144600Z
LOCATION:Yacht Club de Monaco Quai Louis II\,  98000 Monaco
SUMMARY:Pool party Grand Prix
DESCRIPTION:Pool party Grand Prix\nhttps://yacht-club-monaco.mc/events/pool
 -party-grand-prix/
URL:https://yacht-club-monaco.mc/events/pool-party-grand-prix/
END:VEVENT
BEGIN:VEVENT
UID:69e74a241b1d5
DTSTAMP:20260421T095756Z
DTSTART:20260604T144200Z
DTEND:20260604T144200Z
LOCATION:Yacht Club de Monaco Quai Louis II\,  98000 Monaco
SUMMARY:Brunch du Y.C.M. au Sunrise : Fête-Dieu
DESCRIPTION:Brunch du Y.C.M. au Sunrise : Fête-Dieu\nhttps://yacht-club-mo
 naco.mc/events/brunch-du-sunrise-fete-dieu/
URL:https://yacht-club-monaco.mc/events/brunch-du-sunrise-fete-dieu/
END:VEVENT
BEGIN:VEVENT
UID:69e74a241b454
DTSTAMP:20260421T095756Z
DTSTART:20260514T142000Z
DTEND:20260514T142000Z
LOCATION:Yacht Club de Monaco Quai Louis II\,  98000 Monaco
SUMMARY:Brunch du YCM au Sunrise : Ascension
DESCRIPTION:Brunch du YCM au Sunrise : Ascension\nhttps://yacht-club-monaco
 .mc/events/brunch-du-sunrise-ascension/
URL:https://yacht-club-monaco.mc/events/brunch-du-sunrise-ascension/
END:VEVENT
BEGIN:VEVENT
UID:69e74a241b6c5
DTSTAMP:20260421T095756Z
DTSTART:20260703T083800Z
DTEND:20260704T083800Z
LOCATION:Yacht Club de Monaco Quai Louis II\,  98000 Monaco
SUMMARY:Tuiga à New York
DESCRIPTION:Tuiga à New York\nhttps://yacht-club-monaco.mc/events/tuiga-a-
 new-york/
URL:https://yacht-club-monaco.mc/events/tuiga-a-new-york/
END:VEVENT
BEGIN:VEVENT
UID:69e74a241b958
DTSTAMP:20260421T095756Z
DTSTART:20260507T131700Z
DTEND:20260507T131700Z
LOCATION:Yacht Club de Monaco Quai Louis II\,  98000 Monaco
SUMMARY:Fashion show ocean style
DESCRIPTION:Fashion show ocean style\nhttps://yacht-club-monaco.mc/events/f
 ashion-show/
URL:https://yacht-club-monaco.mc/events/fashion-show/
END:VEVENT
BEGIN:VEVENT
UID:69e74a241bbd6
DTSTAMP:20260421T095756Z
DTSTART:20260523T133700Z
DTEND:20260523T133700Z
LOCATION:Yacht Club de Monaco Quai Louis II\,  98000 Monaco
SUMMARY:Fête de la Mer
DESCRIPTION:Fête de la Mer\nhttps://yacht-club-monaco.mc/events/fete-de-la
 -mer/
URL:https://yacht-club-monaco.mc/events/fete-de-la-mer/
END:VEVENT
BEGIN:VEVENT
UID:69e74a241be6a
DTSTAMP:20260421T095756Z
DTSTART:20261210T083800Z
DTEND:20261213T083800Z
LOCATION:Yacht Club de Monaco Quai Louis II\,  98000 Monaco
SUMMARY:Monaco Sportsboat Winter Series (Act II)
DESCRIPTION:Monaco Sportsboat Winter Series (Act II)\nhttps://yacht-club-mo
 naco.mc/events/monaco-sportsboat-winter-series-act-ii/
URL:https://yacht-club-monaco.mc/events/monaco-sportsboat-winter-series-act-ii/
END:VEVENT
BEGIN:VEVENT
UID:69e74a241c0e5
DTSTAMP:20260421T095756Z
DTSTART:20261105T083600Z
DTEND:20261108T083600Z
LOCATION:Yacht Club de Monaco Quai Louis II\,  98000 Monaco
SUMMARY:Monaco Sportsboat Winter Series (Act I)
DESCRIPTION:Monaco Sportsboat Winter Series (Act I)\nhttps://yacht-club-mon
 aco.mc/events/monaco-sportsboat-winter-series-act-i/
URL:https://yacht-club-monaco.mc/events/monaco-sportsboat-winter-series-act-i/
END:VEVENT
BEGIN:VEVENT
UID:69e74a241c362
DTSTAMP:20260421T095756Z
DTSTART:20260619T155600Z
DTEND:20260619T155600Z
LOCATION:Yacht Club de Monaco Quai Louis II\,  98000 Monaco
SUMMARY:YCM Golf Challenge
DESCRIPTION:YCM Golf Challenge\nhttps://yacht-club-monaco.mc/events/ycm-gol
 f-challenge/
URL:https://yacht-club-monaco.mc/events/ycm-golf-challenge/
END:VEVENT
BEGIN:VEVENT
UID:69e74a241c5df
DTSTAMP:20260421T095756Z
DTSTART:20260509T153600Z
DTEND:20260509T153600Z
LOCATION:Yacht Club de Monaco Quai Louis II\,  98000 Monaco
SUMMARY:YCM & BMW Gt tour
DESCRIPTION:YCM & BMW Gt tour\nhttps://yacht-club-monaco.mc/events/ycm-bmw-
 gt-tour/
URL:https://yacht-club-monaco.mc/events/ycm-bmw-gt-tour/
END:VEVENT
BEGIN:VEVENT
UID:69e74a241c85e
DTSTAMP:20260421T095756Z
DTSTART:20260501T085000Z
DTEND:20260501T085000Z
LOCATION:Yacht Club de Monaco Quai Louis II\,  98000 Monaco
SUMMARY:Ouverture du Sunrise
DESCRIPTION:Ouverture du Sunrise\nhttps://yacht-club-monaco.mc/events/ouver
 ture-du-sunrise-et-pool-bar/
URL:https://yacht-club-monaco.mc/events/ouverture-du-sunrise-et-pool-bar/
END:VEVENT
BEGIN:VEVENT
UID:69e74a241cae5
DTSTAMP:20260421T095756Z
DTSTART:20260625T074300Z
DTEND:20260625T074300Z
LOCATION:Yacht Club de Monaco Quai Louis II\,  98000 Monaco
SUMMARY:Cocktail des Membres
DESCRIPTION:Cocktail des Membres\nhttps://yacht-club-monaco.mc/events/cockt
 ail-des-membres/
URL:https://yacht-club-monaco.mc/events/cocktail-des-membres/
END:VEVENT
BEGIN:VEVENT
UID:69e74a241cd8a
DTSTAMP:20260421T095756Z
DTSTART:20271203T084400Z
DTEND:20271205T084400Z
LOCATION:Yacht Club de Monaco Quai Louis II\,  98000 Monaco
SUMMARY:Navicap Challenge – Trophée  Elena Sivoldaeva
DESCRIPTION:Navicap Challenge – Trophée Elena Sivoldaeva\nhttps://yacht-
 club-monaco.mc/events/navicap-challenge-elena-sivoldaeva-trophy-3/
URL:https://yacht-club-monaco.mc/events/navicap-challenge-elena-sivoldaeva-trophy-3/
END:VEVENT
BEGIN:VEVENT
UID:69e74a241d002
DTSTAMP:20260421T095756Z
DTSTART:20270908T161200Z
DTEND:20270911T161200Z
LOCATION:Yacht Club de Monaco Quai Louis II\,  98000 Monaco
SUMMARY:Monaco Classic Week
DESCRIPTION:Monaco Classic Week\nhttps://yacht-club-monaco.mc/events/monaco
 -classic-week/
URL:https://yacht-club-monaco.mc/events/monaco-classic-week/
END:VEVENT
BEGIN:VEVENT
UID:69e74a241d273
DTSTAMP:20260421T095756Z
DTSTART:20270629T160900Z
DTEND:20270704T160900Z
LOCATION:Yacht Club de Monaco Quai Louis II\,  98000 Monaco
SUMMARY:Monaco Energy Boat Challenge
DESCRIPTION:Monaco Energy Boat Challenge\nhttps://yacht-club-monaco.mc/even
 ts/monaco-energy-boat-challenge-2/
URL:https://yacht-club-monaco.mc/events/monaco-energy-boat-challenge-2/
END:VEVENT
BEGIN:VEVENT
UID:69e74a241d505
DTSTAMP:20260421T095756Z
DTSTART:20270619T145100Z
DTEND:20270619T145100Z
LOCATION:Yacht Club de Monaco Quai Louis II\,  98000 Monaco
SUMMARY:Fête de la Mer
DESCRIPTION:Fête de la Mer\nhttps://yacht-club-monaco.mc/events/fete-de-la
 -mer-2/
URL:https://yacht-club-monaco.mc/events/fete-de-la-mer-2/
END:VEVENT
BEGIN:VEVENT
UID:69e74a241d791
DTSTAMP:20260421T095756Z
DTSTART:20270304T154800Z
DTEND:20270307T154800Z
LOCATION:Yacht Club de Monaco Quai Louis II\,  98000 Monaco
SUMMARY:Primo Cup – Trophée UBS
DESCRIPTION:Primo Cup &#8211; Trophée UBS\nhttps://yacht-club-monaco.mc/ev
 ents/primo-cup-trophee-ubs/
URL:https://yacht-club-monaco.mc/events/primo-cup-trophee-ubs/
END:VEVENT
BEGIN:VEVENT
UID:69e74a241da2f
DTSTAMP:20260421T095756Z
DTSTART:20261014T075500Z
DTEND:20261014T075500Z
LOCATION:Yacht Club de Monaco Quai Louis II\,  98000 Monaco
SUMMARY:Dîner conférence : Vincent Riou
DESCRIPTION:Dîner conférence : Vincent Riou\nhttps://yacht-club-monaco.mc
 /events/diner-conference-vincent-riou/
URL:https://yacht-club-monaco.mc/events/diner-conference-vincent-riou/
END:VEVENT
BEGIN:VEVENT
UID:69e74a241dcc5
DTSTAMP:20260421T095756Z
DTSTART:20260930T075100Z
DTEND:20260930T075100Z
LOCATION:Yacht Club de Monaco Quai Louis II\,  98000 Monaco
SUMMARY:Dîner conference: Diriger le Vendée Globe
DESCRIPTION:Dîner conference: Diriger le Vendée Globe\nhttps://yacht-club
 -monaco.mc/events/diner-conference-diriger-le-vendee-globe/
URL:https://yacht-club-monaco.mc/events/diner-conference-diriger-le-vendee-globe/
END:VEVENT
BEGIN:VEVENT
UID:69e74a241df5f
DTSTAMP:20260421T095756Z
DTSTART:20260902T074600Z
DTEND:20260902T074600Z
LOCATION:Yacht Club de Monaco Quai Louis II\,  98000 Monaco
SUMMARY:Dîner conférence : Paul Cayard
DESCRIPTION:Dîner conférence : Paul Cayard\nhttps://yacht-club-monaco.mc/
 events/diner-conference-paul-cayard/
URL:https://yacht-club-monaco.mc/events/diner-conference-paul-cayard/
END:VEVENT
BEGIN:VEVENT
UID:69e74a241e1d5
DTSTAMP:20260421T095756Z
DTSTART:20260610T074200Z
DTEND:20260610T074200Z
LOCATION:Yacht Club de Monaco Quai Louis II\,  98000 Monaco
SUMMARY:Dîner conference : Marketing du Sport
DESCRIPTION:Dîner conference : Marketing du Sport\nhttps://yacht-club-mona
 co.mc/events/diner-conference-marketing-du-sport/
URL:https://yacht-club-monaco.mc/events/diner-conference-marketing-du-sport/
END:VEVENT
BEGIN:VEVENT
UID:69e74a241e46c
DTSTAMP:20260421T095756Z
DTSTART:20260527T073900Z
DTEND:20260527T073900Z
LOCATION:Yacht Club de Monaco Quai Louis II\,  98000 Monaco
SUMMARY:Dîner conférence : Boris Herrmann
DESCRIPTION:Dîner conférence : Boris Herrmann\nhttps://yacht-club-monaco.
 mc/events/diner-conference-boris-herrmann/
URL:https://yacht-club-monaco.mc/events/diner-conference-boris-herrmann/
END:VEVENT
BEGIN:VEVENT
UID:69e74a241e6dd
DTSTAMP:20260421T095756Z
DTSTART:20260429T073400Z
DTEND:20260429T073400Z
LOCATION:Yacht Club de Monaco Quai Louis II\,  98000 Monaco
SUMMARY:Dîner conférence : La Voile en héritage
DESCRIPTION:Dîner conférence : La Voile en héritage\nhttps://yacht-club-
 monaco.mc/events/diner-conference-la-voile-en-heritage/
URL:https://yacht-club-monaco.mc/events/diner-conference-la-voile-en-heritage/
END:VEVENT
BEGIN:VEVENT
UID:69e74a241e962
DTSTAMP:20260421T095756Z
DTSTART:20270113T093400Z
DTEND:20270117T093400Z
LOCATION:Yacht Club de Monaco Quai Louis II\,  98000 Monaco
SUMMARY:Monaco Optimist Team Race
DESCRIPTION:Monaco Optimist Team Race\nhttps://yacht-club-monaco.mc/events/
 monaco-optimist-team-race/
URL:https://yacht-club-monaco.mc/events/monaco-optimist-team-race/
END:VEVENT
BEGIN:VEVENT
UID:69e74a241ebf0
DTSTAMP:20260421T095756Z
DTSTART:20260531T103800Z
DTEND:20260531T123800Z
LOCATION:Yacht Club de Monaco Quai Louis II\,  98000 Monaco
SUMMARY:Brunch du Y.C.M. au Sunrise : Fête des mères
DESCRIPTION:Brunch du Y.C.M. au Sunrise : Fête des mères\nhttps://yacht-c
 lub-monaco.mc/events/brunch-special-fete-des-meres-sunrise/
URL:https://yacht-club-monaco.mc/events/brunch-special-fete-des-meres-sunrise/
END:VEVENT
BEGIN:VEVENT
UID:69e74a241ee8b
DTSTAMP:20260421T095756Z
DTSTART:20260525T100000Z
DTEND:20260525T143200Z
LOCATION:Yacht Club de Monaco Quai Louis II\,  98000 Monaco
SUMMARY:Brunch du YCM au Sunrise : Lundi de Pentecôte
DESCRIPTION:Brunch du YCM au Sunrise : Lundi de Pentecôte\nhttps://yacht-c
 lub-monaco.mc/events/lundi-de-pentecote-brunch-au-champagne-moet-chandon-su
 nrise/
URL:https://yacht-club-monaco.mc/events/lundi-de-pentecote-brunch-au-champagne-moet-chandon-sunrise/
END:VEVENT
BEGIN:VEVENT
UID:69e74a241f106
DTSTAMP:20260421T095756Z
DTSTART:20260708T162700Z
DTEND:20260711T162700Z
LOCATION:Yacht Club de Monaco Quai Louis II\,  98000 Monaco
SUMMARY:Monaco Energy Boat Challenge
DESCRIPTION:Monaco Energy Boat Challenge\nhttps://yacht-club-monaco.mc/even
 ts/monaco-energy-boat-challenge/
URL:https://yacht-club-monaco.mc/events/monaco-energy-boat-challenge/
END:VEVENT
BEGIN:VEVENT
UID:69e74a241f38c
DTSTAMP:20260421T095756Z
DTSTART:20260609T150500Z
DTEND:20260613T150500Z
LOCATION:Yacht Club de Monaco Quai Louis II\,  98000 Monaco
SUMMARY:Classic Car days
DESCRIPTION:Classic Car days\nhttps://yacht-club-monaco.mc/events/classic-c
 ar-days/
URL:https://yacht-club-monaco.mc/events/classic-car-days/
END:VEVENT
BEGIN:VEVENT
UID:69e74a241f632
DTSTAMP:20260421T095756Z
DTSTART:20260519T085500Z
DTEND:20260519T085500Z
LOCATION:Yacht Club de Monaco Quai Louis II\,  98000 Monaco
SUMMARY:Grande Finale Poker Saison 4
DESCRIPTION:Grande Finale Poker Saison 4\nhttps://yacht-club-monaco.mc/even
 ts/grande-finale-poker-saison-4/
URL:https://yacht-club-monaco.mc/events/grande-finale-poker-saison-4/
END:VEVENT
BEGIN:VEVENT
UID:69e74a241f8d2
DTSTAMP:20260421T095756Z
DTSTART:20260428T175100Z
DTEND:20260428T195100Z
LOCATION:Yacht Club de Monaco Quai Louis II\,  98000 Monaco
SUMMARY:Y.C.M. Poker Saison 4 Event 8
DESCRIPTION:Y.C.M. Poker Saison 4 Event 8\nhttps://yacht-club-monaco.mc/eve
 nts/y-c-m-poker-saison-4-event-8/
URL:https://yacht-club-monaco.mc/events/y-c-m-poker-saison-4-event-8/
END:VEVENT
BEGIN:VEVENT
UID:69e74a241fb9f
DTSTAMP:20260421T095756Z
DTSTART:20260625T084700Z
DTEND:20260625T084700Z
LOCATION:Yacht Club de Monaco Quai Louis II\,  98000 Monaco
SUMMARY:Billard parents & child
DESCRIPTION:Billard parents & child\nhttps://yacht-club-monaco.mc/events/bi
 llard-parents-child/
URL:https://yacht-club-monaco.mc/events/billard-parents-child/
END:VEVENT
BEGIN:VEVENT
UID:69e74a241fe4f
DTSTAMP:20260421T095756Z
DTSTART:20261016T095300Z
DTEND:20261016T095300Z
LOCATION:Yacht Club de Monaco Quai Louis II\,  98000 Monaco
SUMMARY:Oktoberfest
DESCRIPTION:Oktoberfest\nhttps://yacht-club-monaco.mc/events/oktoberfest/
URL:https://yacht-club-monaco.mc/events/oktoberfest/
END:VEVENT
BEGIN:VEVENT
UID:69e74a24200ff
DTSTAMP:20260421T095756Z
DTSTART:20260818T081800Z
DTEND:20260823T081800Z
LOCATION:Yacht Club de Monaco Quai Louis II\,  98000 Monaco
SUMMARY:Palermo-Montecarlo
DESCRIPTION:Palermo-Montecarlo\nhttps://yacht-club-monaco.mc/events/palermo
 -montecarlo/
URL:https://yacht-club-monaco.mc/events/palermo-montecarlo/
END:VEVENT
BEGIN:VEVENT
UID:69e74a24203ea
DTSTAMP:20260421T095756Z
DTSTART:20260923T091200Z
DTEND:20260926T091200Z
LOCATION:Yacht Club de Monaco Quai Louis II\,  98000 Monaco
SUMMARY:Monaco Yacht Show
DESCRIPTION:Monaco Yacht Show\nhttps://yacht-club-monaco.mc/events/monaco-y
 acht-show/
URL:https://yacht-club-monaco.mc/events/monaco-yacht-show/
END:VEVENT
BEGIN:VEVENT
UID:69e74a24206ef
DTSTAMP:20260421T095756Z
DTSTART:20260920T090800Z
DTEND:20260921T090800Z
LOCATION:Yacht Club de Monaco Quai Louis II\,  98000 Monaco
SUMMARY:Monaco Smart & Sustainable Marina
DESCRIPTION:Monaco Smart & Sustainable Marina\nhttps://yacht-club-monaco.mc
 /events/monaco-smart-sustainable-marina/
URL:https://yacht-club-monaco.mc/events/monaco-smart-sustainable-marina/
END:VEVENT
BEGIN:VEVENT
UID:69e74a24209c7
DTSTAMP:20260421T095756Z
DTSTART:20261204T131000Z
DTEND:20261206T131000Z
LOCATION:Yacht Club de Monaco Quai Louis II\,  98000 Monaco
SUMMARY:Navicap Challenge – Elena Sivoldaeva Trophy
DESCRIPTION:Navicap Challenge – Elena Sivoldaeva Trophy\nhttps://yacht-cl
 ub-monaco.mc/events/navicap-challenge-elena-sivoldaeva-trophy/
URL:https://yacht-club-monaco.mc/events/navicap-challenge-elena-sivoldaeva-trophy/
END:VEVENT
BEGIN:VEVENT
UID:69e74a2420d1a
DTSTAMP:20260421T095756Z
DTSTART:20261023T120500Z
DTEND:20261025T130500Z
LOCATION:Yacht Club de Monaco Quai Louis II\,  98000 Monaco
SUMMARY:Trophée Grimaldi
DESCRIPTION:Trophée Grimaldi\nhttps://yacht-club-monaco.mc/events/trophee-
 grimaldi/
URL:https://yacht-club-monaco.mc/events/trophee-grimaldi/
END:VEVENT
BEGIN:VEVENT
UID:69e74a2420fe4
DTSTAMP:20260421T095756Z
DTSTART:20261016T120300Z
DTEND:20261018T120300Z
LOCATION:Yacht Club de Monaco Quai Louis II\,  98000 Monaco
SUMMARY:Trophée Adalberto Miani
DESCRIPTION:Trophée Adalberto Miani\nhttps://yacht-club-monaco.mc/events/t
 rophee-adalberto-miani-2/
URL:https://yacht-club-monaco.mc/events/trophee-adalberto-miani-2/
END:VEVENT
BEGIN:VEVENT
UID:69e74a24212b8
DTSTAMP:20260421T095756Z
DTSTART:20261016T120000Z
DTEND:20261018T120000Z
LOCATION:Yacht Club de Monaco Quai Louis II\,  98000 Monaco
SUMMARY:Trophée Virginie Heriot
DESCRIPTION:Trophée Virginie Heriot\nhttps://yacht-club-monaco.mc/events/t
 rophee-virginie-heriot/
URL:https://yacht-club-monaco.mc/events/trophee-virginie-heriot/
END:VEVENT
BEGIN:VEVENT
UID:69e74a242159a
DTSTAMP:20260421T095756Z
DTSTART:20260604
DTEND:20260605
LOCATION:Yacht Club de Monaco Quai Louis II\,  98000 Monaco
SUMMARY:83° Grand Prix F1 de Monaco
DESCRIPTION:83° Grand Prix F1 de Monaco\nhttps://yacht-club-monaco.mc/even
 ts/83-grand-prix-f1-de-monaco/
URL:https://yacht-club-monaco.mc/events/83-grand-prix-f1-de-monaco/
END:VEVENT
BEGIN:VEVENT
UID:69e74a242184f
DTSTAMP:20260421T095756Z
DTSTART:20260516
DTEND:20260517
LOCATION:Yacht Club de Monaco Quai Louis II\,  98000 Monaco
SUMMARY:9° E-Prix de Monaco
DESCRIPTION:9° E-Prix de Monaco\nhttps://yacht-club-monaco.mc/events/9-e-p
 rix-de-monaco/
URL:https://yacht-club-monaco.mc/events/9-e-prix-de-monaco/
END:VEVENT
BEGIN:VEVENT
UID:69e74a2421b3d
DTSTAMP:20260421T095756Z
DTSTART:20260424
DTEND:20260425
LOCATION:Yacht Club de Monaco Quai Louis II\,  98000 Monaco
SUMMARY:15° Grand Prix Historique de Monaco
DESCRIPTION:15° Grand Prix Historique de Monaco\nhttps://yacht-club-monaco
 .mc/events/15-grand-prix-historique-de-monaco/
URL:https://yacht-club-monaco.mc/events/15-grand-prix-historique-de-monaco/
END:VEVENT
END:VCALENDAR